BEGIN:VCALENDAR
VERSION:2.0
PRODID:-//A.S.D. Virtus et Labor - ECPv6.15.20//NONSGML v1.0//EN
CALSCALE:GREGORIAN
METHOD:PUBLISH
X-ORIGINAL-URL:https://www.virtusetlabor.it
X-WR-CALDESC:Eventi per A.S.D. Virtus et Labor
REFRESH-INTERVAL;VALUE=DURATION:PT1H
X-Robots-Tag:noindex
X-PUBLISHED-TTL:PT1H
BEGIN:VTIMEZONE
TZID:Europe/Helsinki
BEGIN:DAYLIGHT
TZOFFSETFROM:+0200
TZOFFSETTO:+0300
TZNAME:EEST
DTSTART:20230326T010000
END:DAYLIGHT
BEGIN:STANDARD
TZOFFSETFROM:+0300
TZOFFSETTO:+0200
TZNAME:EET
DTSTART:20231029T010000
END:STANDARD
BEGIN:DAYLIGHT
TZOFFSETFROM:+0200
TZOFFSETTO:+0300
TZNAME:EEST
DTSTART:20240331T010000
END:DAYLIGHT
BEGIN:STANDARD
TZOFFSETFROM:+0300
TZOFFSETTO:+0200
TZNAME:EET
DTSTART:20241027T010000
END:STANDARD
BEGIN:DAYLIGHT
TZOFFSETFROM:+0200
TZOFFSETTO:+0300
TZNAME:EEST
DTSTART:20250330T010000
END:DAYLIGHT
BEGIN:STANDARD
TZOFFSETFROM:+0300
TZOFFSETTO:+0200
TZNAME:EET
DTSTART:20251026T010000
END:STANDARD
END:VTIMEZONE
BEGIN:VEVENT
DTSTART;TZID=Europe/Helsinki:20240923T200000
DTEND;TZID=Europe/Helsinki:20240923T213000
DTSTAMP:20260422T132715
CREATED:20240713T101653Z
LAST-MODIFIED:20240713T101654Z
UID:3269-1727121600-1727127000@www.virtusetlabor.it
SUMMARY:Open day Danze afro
DESCRIPTION:
URL:https://www.virtusetlabor.it/index.php/event/open-day-danze-afro/
LOCATION:Palestra istituto Giuseppe Dezza\, Via Luigi Cadorna\, 25\, Melegnano\, (MI)\, 20077\, Italia
CATEGORIES:Calendario appuntamenti
ORGANIZER;CN="ASD Virtus et Labor":MAILTO:info@virtusetlabor.it
END:VEVENT
END:VCALENDAR